BEGIN:VCALENDAR
VERSION:2.0
PRODID:-//Fiera Tur - ECPv6.10.0//NONSGML v1.0//EN
CALSCALE:GREGORIAN
METHOD:PUBLISH
X-ORIGINAL-URL:https://fieratur.com/en/
X-WR-CALDESC:Events for Fiera Tur
REFRESH-INTERVAL;VALUE=DURATION:PT1H
X-Robots-Tag:noindex
X-PUBLISHED-TTL:PT1H
BEGIN:VTIMEZONE
TZID:Europe/Moscow
BEGIN:STANDARD
TZOFFSETFROM:+0300
TZOFFSETTO:+0300
TZNAME:MSK
DTSTART:20250101T000000
END:STANDARD
END:VTIMEZONE
BEGIN:VEVENT
DTSTART;VALUE=DATE:20250901
DTEND;VALUE=DATE:20250904
DTSTAMP:20260419T211309
CREATED:20250213T105855Z
LAST-MODIFIED:20250213T105913Z
UID:10000055-1756684800-1756943999@fieratur.com
SUMMARY:SAUDI WOOD EXPO
DESCRIPTION:Fair InfoTour InformationExhibition DetailsFair Info     \n\nHistory: 15 December 2025 - 17 December 2025\n\nCategory: Food\n\nCountry: Saudi Arabia\n\nFairground: Riyadh Front Exhibition & Conference Center\n\n  Tour Information      \n     \nFlight Info\n    \n        \n            \n                Departure Date\n                Return Date\n                Airline\n                Departure Airport\n                Arrival Airport\n                Departure time İstanbul\n                Arrivel Time to Destination\n                Departure time Destination\n                Landing time İstanbul\n            \n        \n        \n            \n                \n                \n                \n                \n                \n                \n                \n                \n                \n            \n        \n    \n \n    Accomodation\n    \n        \n            \n                Hotel Name\n                Distance to Fair \n                Distance to Transportation\n                Location\n            \n        \n        \n            \n                \n                 Meter\n                 Meter\n                Show on Map\n            \n        \n    \n \n\n \n     Exhibition Details    \n\nThe Saudi Wood Fair is held from September 1 to 3\, 2025 at the Riyadh International Convention and Exhibition Center. As one of the largest events in the wood industry\, this fair provides an opportunity to explore the latest technologies\, sustainable wood products and inspiring designs. \n\nSaudi Arabia’s $1 trillion infrastructure project includes projects such as NEOM\, Red Sea\, Qiddiya\, ROSHN and Diriyah Company. To achieve Saudi Arabia’s Vision 2030 goals\, the demand for infrastructure and infrastructure-based products is increasing. This exhibition provides an opportunity to build a network for industry professionals operating in the infrastructure sector.  \n\nThe fair gathers visitors under one roof for three days\, helping you achieve your business goals and expand your sales pipeline. It also gives you a better understanding of the Saudi Arabian market and navigating local regulations.\n\n \n\nName Surname *Telephone number *EmailName of the Fair You Are Interested InNotesThe message has been sent.×There was a problem sending the message.×Send
URL:https://fieratur.com/en/fuar-turu/saudi-wood-expo/
LOCATION:Riyadh International Convention and Exhibition Center\, Riyadh\, Saudi Arabia
CATEGORIES:Wooden
ATTACH;FMTTYPE=image/jpeg:https://fieratur.com/wp-content/uploads/2025/02/saudi-wood-expo.jpg
END:VEVENT
END:VCALENDAR