BEGIN:VCALENDAR
VERSION:2.0
PRODID:-//Fiera Tur - ECPv6.10.0//NONSGML v1.0//EN
CALSCALE:GREGORIAN
METHOD:PUBLISH
X-WR-CALNAME:Fiera Tur
X-ORIGINAL-URL:https://fieratur.com/en/
X-WR-CALDESC:Events for Fiera Tur
REFRESH-INTERVAL;VALUE=DURATION:PT1H
X-Robots-Tag:noindex
X-PUBLISHED-TTL:PT1H
BEGIN:VTIMEZONE
TZID:Europe/Moscow
BEGIN:STANDARD
TZOFFSETFROM:+0300
TZOFFSETTO:+0300
TZNAME:MSK
DTSTART:20250101T000000
END:STANDARD
END:VTIMEZONE
BEGIN:VEVENT
DTSTART;VALUE=DATE:20251024
DTEND;VALUE=DATE:20251027
DTSTAMP:20260420T030144
CREATED:20250723T120115Z
LAST-MODIFIED:20250730T084317Z
UID:10000095-1761264000-1761523199@fieratur.com
SUMMARY:DFF EXPO LIBYA
DESCRIPTION:Fair InfoTour InformationExhibition DetailsFair Info      History: 24 November 2025 - 27 November 2025 Category: Construction Country:  Fairground: Dubai World Trade Centre   Tour Information      \n     \nFlight Info\n    \n        \n            \n                Departure Date\n                Return Date\n                Airline\n                Departure Airport\n                Arrival Airport\n                Departure time İstanbul\n                Arrivel Time to Destination\n                Departure time Destination\n                Landing time İstanbul\n            \n        \n        \n            \n                \n                \n                \n                \n                \n                \n                \n                \n                \n            \n        \n    \n \n    Accomodation\n    \n        \n            \n                Hotel Name\n                Distance to Fair \n                Distance to Transportation\n                Location\n            \n        \n        \n            \n                \n                 Meter\n                 Meter\n                Show on Map\n            \n        \n    \n \n\n \n     Exhibition Details\n\n\n\n   DFF Expo Libya\, which will be held at the Expo Libya Exhibition Grounds in Benghazi on 24-26 November 2025\, is an important meeting point for companies operating in the architecture\, furniture and design sectors. Offering strategic opportunities for companies that want to open up to the Libyan market in the restructuring process\, the fair is a platform where innovative products are introduced\, business connections are established and sectoral collaborations are developed.   Name Surname *Telephone number *EmailName of the Fair You Are Interested InNotesThe message has been sent.×There was a problem sending the message.×Send
URL:https://fieratur.com/en/fuar-turu/dff-expo-libya/
LOCATION:Expo Libya Exhibition Grounds\, 65C9+JPV\, Kuwayfiyah\, Libya\, Kuwayfiyah\, Libya
CATEGORIES:Decoration
ATTACH;FMTTYPE=image/png:https://fieratur.com/wp-content/uploads/2025/07/libya-fuar.png
END:VEVENT
BEGIN:VEVENT
DTSTART;VALUE=DATE:20251029
DTEND;VALUE=DATE:20251103
DTSTAMP:20260420T030144
CREATED:20250723T115716Z
LAST-MODIFIED:20250730T084324Z
UID:10000096-1761696000-1762127999@fieratur.com
SUMMARY:SALON DU CHOCOLAT DE PARIS
DESCRIPTION:Fair InfoTour InformationExhibition DetailsFair Info      History: 24 November 2025 - 27 November 2025 Category: Construction Country:  Fairground: Dubai World Trade Centre   Tour Information      \n     \nFlight Info\n    \n        \n            \n                Departure Date\n                Return Date\n                Airline\n                Departure Airport\n                Arrival Airport\n                Departure time İstanbul\n                Arrivel Time to Destination\n                Departure time Destination\n                Landing time İstanbul\n            \n        \n        \n            \n                \n                \n                \n                \n                \n                \n                \n                \n                \n            \n        \n    \n \n    Accomodation\n    \n        \n            \n                Hotel Name\n                Distance to Fair \n                Distance to Transportation\n                Location\n            \n        \n        \n            \n                \n                 Meter\n                 Meter\n                Show on Map\n            \n        \n    \n \n\n \n     Exhibition Details\n\n\n\n   The Salon du Chocolat de Paris\, which will be held at Paris Expo Porte de Versailles between October 29 and November 2\, 2025\, is one of the most prestigious events in the world for companies operating in the chocolate\, desserts and packaging industry. The fair\, where innovative products are exhibited\, allows brands to gain visibility in the global market\, establish business connections and meet directly with the end consumer.   Name Surname *Telephone number *EmailName of the Fair You Are Interested InNotesThe message has been sent.×There was a problem sending the message.×Send
URL:https://fieratur.com/en/fuar-turu/salon-du-chocolat-de-paris/
LOCATION:Paris Expo Porte de Versailles\, 1 Pl. de la Prte de Versailles\, 75015 Paris\, France\, Paris\, France
CATEGORIES:Food
ATTACH;FMTTYPE=image/jpeg:https://fieratur.com/wp-content/uploads/2025/07/fransa-fuar.jpg
END:VEVENT
BEGIN:VEVENT
DTSTART;VALUE=DATE:20251105
DTEND;VALUE=DATE:20251108
DTSTAMP:20260420T030144
CREATED:20250213T144702Z
LAST-MODIFIED:20250213T144723Z
UID:10000073-1762300800-1762559999@fieratur.com
SUMMARY:THE BIG5 CONSTRUCT KENYA
DESCRIPTION:Fair InfoTour InformationExhibition DetailsFair Info     \n\nHistory: 24 November 2025 - 27 November 2025\n\nCategory: Construction\n\nCountry: \n\nFairground: Dubai World Trade Centre\n\n  Tour Information      \n     \nFlight Info\n    \n        \n            \n                Departure Date\n                Return Date\n                Airline\n                Departure Airport\n                Arrival Airport\n                Departure time İstanbul\n                Arrivel Time to Destination\n                Departure time Destination\n                Landing time İstanbul\n            \n        \n        \n            \n                \n                \n                \n                \n                \n                \n                \n                \n                \n            \n        \n    \n \n    Accomodation\n    \n        \n            \n                Hotel Name\n                Distance to Fair \n                Distance to Transportation\n                Location\n            \n        \n        \n            \n                \n                 Meter\n                 Meter\n                Show on Map\n            \n        \n    \n \n\n \n     Exhibition Details    \n\nThe Big 5 Construct Kenya Fair\, which will be held in Nairobi on November 5-7\, 2025\, stands out as the largest construction event in the country. More than 8500 exhibitors are participating in this three-day event\, and more than $5 million in business is expected to be generated during the event. \n\nThe fair brings together the entire chain of the construction industry and allows thousands of industry professionals and leading construction companies to establish business contacts. The fair provides an opportunity to learn about local regulations and forge new business partnerships in Kenya’s emerging construction market\, which is valued at $20 billion. \n\nThe event provides an opportunity to promote your brand among local contractors\, distributors\, architects\, engineers\, and government representatives\, while meeting investors looking for the latest products\, technologies\, and innovations. In Kenya’s competitive construction market\, you can take your business one step further by connecting with potential clients.\n\n \n\nName Surname *Telephone number *EmailName of the Fair You Are Interested InNotesThe message has been sent.×There was a problem sending the message.×Send
URL:https://fieratur.com/en/fuar-turu/the-big5-construct-kenya/
LOCATION:Sarit Expo Centre\, Pio Gama Pinto\, Sarit Centre\, Karuna Rd\, Nairobi\, Kenya\, Sarit\, Kenya
CATEGORIES:Construction
ATTACH;FMTTYPE=image/jpeg:https://fieratur.com/wp-content/uploads/2025/02/big-5-kenya.jpg
END:VEVENT
BEGIN:VEVENT
DTSTART;VALUE=DATE:20251118
DTEND;VALUE=DATE:20251123
DTSTAMP:20260420T030144
CREATED:20250213T145259Z
LAST-MODIFIED:20250213T145320Z
UID:10000075-1763424000-1763855999@fieratur.com
SUMMARY:SOLUTRANS
DESCRIPTION:Fair InfoTour InformationExhibition DetailsFair Info     \n\nHistory: 24 November 2025 - 27 November 2025\n\nCategory: Construction\n\nCountry: \n\nFairground: Dubai World Trade Centre\n\n  Tour Information      \n     \nFlight Info\n    \n        \n            \n                Departure Date\n                Return Date\n                Airline\n                Departure Airport\n                Arrival Airport\n                Departure time İstanbul\n                Arrivel Time to Destination\n                Departure time Destination\n                Landing time İstanbul\n            \n        \n        \n            \n                \n                \n                \n                \n                \n                \n                \n                \n                \n            \n        \n    \n \n    Accomodation\n    \n        \n            \n                Hotel Name\n                Distance to Fair \n                Distance to Transportation\n                Location\n            \n        \n        \n            \n                \n                 Meter\n                 Meter\n                Show on Map\n            \n        \n    \n \n\n \n     Exhibition Details    \n\nSolutrans Fair\, which will be held between 18-22 November 2024\, offers an important platform for those who want to discover innovations in the industrial and city vehicles sector. Regulations to reduce harmful emissions across Europe and around the world are accelerating the short-term withdrawal of diesel engines\, and manufacturers have been preparing for this transition for years. In this transition period\, although diesel engines will continue to exist for a while\, biofuel\, gas engines\, electric batteries and\, in the long term\, hydrogen-fueled vehicles will enter the scene.  \n\nBy focusing on regulations\, technical developments\, and competitive dynamics\, Solutrans aims to help you turn this revolution into growth opportunities. It offers the opportunity to explore the study called Vision’AIR\, which offers a glimpse into the future of the energy mix of industrial vehicles in Europe stretching back to 2040. \n\nMore than 1\,000 exhibitors and companies took part in the previous fair\, and 33% of these companies were new exhibitors. More than 50\,000 visitors were welcomed and 94% of the exhibitors were satisfied. \n\nWith a total of 90\,000 m² of exhibition space and outdoor areas\, Solutrans aims to provide solutions to the challenges in the sector.\n\n \n\nName Surname *Telephone number *EmailName of the Fair You Are Interested InNotesThe message has been sent.×There was a problem sending the message.×Send
URL:https://fieratur.com/en/fuar-turu/solutrans/
LOCATION:Lyon Euroexpo\, Bd de l'Europe\, 69680 Chassieu\, France\, Lyon\, France
CATEGORIES:Automotive
ATTACH;FMTTYPE=image/jpeg:https://fieratur.com/wp-content/uploads/2025/02/solutrans.jpg
END:VEVENT
BEGIN:VEVENT
DTSTART;VALUE=DATE:20251124
DTEND;VALUE=DATE:20251128
DTSTAMP:20260420T030144
CREATED:20250213T150245Z
LAST-MODIFIED:20250213T150714Z
UID:10000079-1763942400-1764287999@fieratur.com
SUMMARY:MIDDLE EAST STONE
DESCRIPTION:Fair InfoTour InformationExhibition DetailsFair Info     \nHistory: 24 November 2025 - 27 November 2025\nCategory: Construction\nCountry: \nFairground: Dubai World Trade Centre \n  Tour Information      \n     \nFlight Info\n    \n        \n            \n                Departure Date\n                Return Date\n                Airline\n                Departure Airport\n                Arrival Airport\n                Departure time İstanbul\n                Arrivel Time to Destination\n                Departure time Destination\n                Landing time İstanbul\n            \n        \n        \n            \n                \n                \n                \n                \n                \n                \n                \n                \n                \n            \n        \n    \n \n    Accomodation\n    \n        \n            \n                Hotel Name\n                Distance to Fair \n                Distance to Transportation\n                Location\n            \n        \n        \n            \n                \n                 Meter\n                 Meter\n                Show on Map\n            \n        \n    \n \n\n \n     Exhibition Details    \n \nName Surname *Telephone number *EmailName of the Fair You Are Interested InNotesThe message has been sent.×There was a problem sending the message.×Send
URL:https://fieratur.com/en/fuar-turu/4075/
LOCATION:Dubai World Trade Centre\, Sheikh Zayed Rd - Trade Centre - Trade Centre 2 - Dubai - United Arab Emirates\, Dubai\, United Arab Emirates
CATEGORIES:Construction
ATTACH;FMTTYPE=image/jpeg:https://fieratur.com/wp-content/uploads/2025/02/Middle-East-Stone.jpg
END:VEVENT
BEGIN:VEVENT
DTSTART;VALUE=DATE:20251124
DTEND;VALUE=DATE:20251128
DTSTAMP:20260420T030144
CREATED:20250213T150814Z
LAST-MODIFIED:20250213T150833Z
UID:10000081-1763942400-1764287999@fieratur.com
SUMMARY:THE BIG 5 HEAVY & MEC
DESCRIPTION:Fair InfoTour InformationExhibition DetailsFair Info     \n\nHistory: 24 November 2025 - 27 November 2025\n\nCategory: Construction\n\nCountry: \n\nFairground: Dubai World Trade Centre\n\n  Tour Information      \n     \nFlight Info\n    \n        \n            \n                Departure Date\n                Return Date\n                Airline\n                Departure Airport\n                Arrival Airport\n                Departure time İstanbul\n                Arrivel Time to Destination\n                Departure time Destination\n                Landing time İstanbul\n            \n        \n        \n            \n                \n                \n                \n                \n                \n                \n                \n                \n                \n            \n        \n    \n \n    Accomodation\n    \n        \n            \n                Hotel Name\n                Distance to Fair \n                Distance to Transportation\n                Location\n            \n        \n        \n            \n                \n                 Meter\n                 Meter\n                Show on Map\n            \n        \n    \n \n\n \n     Exhibition Details    \n\nThe Big 5 Heavy & MEC\, which will be held on November 24-27\, 2025\, offers an important platform for companies looking to expand their business opportunities in the heavy construction industry. The event brings together companies in the sector with live product introductions\, information exchange and networking opportunities and takes place in conjunction with the Big 5 Global event. \n\nThe Big 5 Heavy & MEC provides limitless opportunities for businesses to increase their growth potential and establish business contacts. As a gateway to the MEASA region’s $9 trillion construction market\, this fair offers an indispensable business platform for companies that want to evaluate business opportunities at every stage of construction.\n\n \n\nName Surname *Telephone number *EmailName of the Fair You Are Interested InNotesThe message has been sent.×There was a problem sending the message.×Send
URL:https://fieratur.com/en/fuar-turu/the-big-5-heavy-mec/
LOCATION:Dubai World Trade Centre\, Sheikh Zayed Rd - Trade Centre - Trade Centre 2 - Dubai - United Arab Emirates\, Dubai\, United Arab Emirates
CATEGORIES:Construction
ATTACH;FMTTYPE=image/jpeg:https://fieratur.com/wp-content/uploads/2025/02/heavy-mec.jpg
END:VEVENT
BEGIN:VEVENT
DTSTART;VALUE=DATE:20251208
DTEND;VALUE=DATE:20251211
DTSTAMP:20260420T030145
CREATED:20250723T115032Z
LAST-MODIFIED:20250813T130053Z
UID:10000098-1765152000-1765411199@fieratur.com
SUMMARY:IDR EXPO
DESCRIPTION:Fair InfoTour InformationExhibition DetailsFair Info      History: 24 November 2025 - 27 November 2025 Category: Construction Country:  Fairground: Dubai World Trade Centre   Tour Information      \n     \nFlight Info\n    \n        \n            \n                Departure Date\n                Return Date\n                Airline\n                Departure Airport\n                Arrival Airport\n                Departure time İstanbul\n                Arrivel Time to Destination\n                Departure time Destination\n                Landing time İstanbul\n            \n        \n        \n            \n                \n                \n                \n                \n                \n                \n                \n                \n                \n            \n        \n    \n \n    Accomodation\n    \n        \n            \n                Hotel Name\n                Distance to Fair \n                Distance to Transportation\n                Location\n            \n        \n        \n            \n                \n                 Meter\n                 Meter\n                Show on Map\n            \n        \n    \n \n\n \n     Exhibition Details\n\n   IDR Expo Basra\, which will be held at Basra International Fairground between 1-4 October 2025\, is an important business platform for companies operating in the building and construction sector. Offering great opportunities for companies that want to open up to the Iraqi market\, the fair is a meeting point where the latest products in the sector are exhibited\, collaborations are established and access to regional projects is provided.  Name Surname *Telephone number *EmailName of the Fair You Are Interested InNotesThe message has been sent.×There was a problem sending the message.×Send
URL:https://fieratur.com/en/fuar-turu/idr-expo/
LOCATION:Basra International Fair Grounds\, HQ8M+2GV\, Basrah\, Basra Governorate\, Iraq\, Persian\, Iraq
CATEGORIES:Construction
ATTACH;FMTTYPE=image/png:https://fieratur.com/wp-content/uploads/2025/07/idr-expo.png
END:VEVENT
BEGIN:VEVENT
DTSTART;VALUE=DATE:20251215
DTEND;VALUE=DATE:20251218
DTSTAMP:20260420T030145
CREATED:20250723T120453Z
LAST-MODIFIED:20250730T084330Z
UID:10000097-1765756800-1766015999@fieratur.com
SUMMARY:HORECA RIYADH
DESCRIPTION:Fair InfoTour InformationExhibition DetailsFair Info      History: 24 November 2025 - 27 November 2025 Category: Construction Country:  Fairground: Dubai World Trade Centre   Tour Information      \n     \nFlight Info\n    \n        \n            \n                Departure Date\n                Return Date\n                Airline\n                Departure Airport\n                Arrival Airport\n                Departure time İstanbul\n                Arrivel Time to Destination\n                Departure time Destination\n                Landing time İstanbul\n            \n        \n        \n            \n                \n                \n                \n                \n                \n                \n                \n                \n                \n            \n        \n    \n \n    Accomodation\n    \n        \n            \n                Hotel Name\n                Distance to Fair \n                Distance to Transportation\n                Location\n            \n        \n        \n            \n                \n                 Meter\n                 Meter\n                Show on Map\n            \n        \n    \n \n\n \n     Exhibition Details\n\n\n\n  HORECA Riyadh\, which will be held at the Riyadh Front Exhibition & Conference Center on 15-17 December 2025\, is an important platform for companies operating in the food and beverage sector to open up to the Saudi Arabian market. The event\, which brings together the hospitality\, restaurant and catering sectors; It offers an ideal environment for product promotion\, business connections and sectoral collaborations.  Name Surname *Telephone number *EmailName of the Fair You Are Interested InNotesThe message has been sent.×There was a problem sending the message.×Send
URL:https://fieratur.com/en/fuar-turu/horeca-riyadh/
LOCATION:Riyadh Front Exhibition & Conference Center\, RPPH+7PH\, King Khalid International Airport\, Riyadh 13413\, Saudi Arabia\, Riyadh\, Saudi Arabia
CATEGORIES:Food
ATTACH;FMTTYPE=image/jpeg:https://fieratur.com/wp-content/uploads/2025/07/horeca-riyadh.jpg
END:VEVENT
END:VCALENDAR