BEGIN:VCALENDAR
VERSION:2.0
PRODID:-//Fiera Tur - ECPv6.10.0//NONSGML v1.0//EN
CALSCALE:GREGORIAN
METHOD:PUBLISH
X-WR-CALNAME:Fiera Tur
X-ORIGINAL-URL:https://fieratur.com/en/
X-WR-CALDESC:Events for Fiera Tur
REFRESH-INTERVAL;VALUE=DURATION:PT1H
X-Robots-Tag:noindex
X-PUBLISHED-TTL:PT1H
BEGIN:VTIMEZONE
TZID:Europe/Moscow
BEGIN:STANDARD
TZOFFSETFROM:+0300
TZOFFSETTO:+0300
TZNAME:MSK
DTSTART:20250101T000000
END:STANDARD
END:VTIMEZONE
BEGIN:VEVENT
DTSTART;VALUE=DATE:20250513
DTEND;VALUE=DATE:20250517
DTSTAMP:20260419T173656
CREATED:20250213T101529Z
LAST-MODIFIED:20250221T105048Z
UID:10000035-1747094400-1747439999@fieratur.com
SUMMARY:Iraq Udex
DESCRIPTION:Fair InfoTour InformationExhibition DetailsFair Info      History: 19 April 2026 Category:  Country:  Fairground: Baghdad International   Tour Information      \n     \nFlight Info\n    \n        \n            \n                Departure Date\n                Return Date\n                Airline\n                Departure Airport\n                Arrival Airport\n                Departure time İstanbul\n                Arrivel Time to Destination\n                Departure time Destination\n                Landing time İstanbul\n            \n        \n        \n            \n                \n                \n                \n                \n                \n                \n                \n                \n                \n            \n        \n    \n \n    Accomodation\n    \n        \n            \n                Hotel Name\n                Distance to Fair \n                Distance to Transportation\n                Location\n            \n        \n        \n            \n                \n                 Meter\n                 Meter\n                Show on Map\n            \n        \n    \n \n\n \n     Exhibition Details\n          \n\n          \n          \n\n          \n               Name Surname *Telephone number *EmailName of the Fair You Are Interested InNotesThe message has been sent.×There was a problem sending the message.×Send
URL:https://fieratur.com/en/fuar-turu/iraq-udex/
LOCATION:Baghdad International\, 8976+GX2\, Unnamed Road\, Baghdad\, Iraq\, Baghdad\, Iraq
CATEGORIES:Energy
ATTACH;FMTTYPE=image/jpeg:https://fieratur.com/wp-content/uploads/2025/02/IRAQ-UDEX.jpg
END:VEVENT
BEGIN:VEVENT
DTSTART;VALUE=DATE:20250513
DTEND;VALUE=DATE:20250517
DTSTAMP:20260419T173656
CREATED:20250213T101207Z
LAST-MODIFIED:20250213T101228Z
UID:10000033-1747094400-1747439999@fieratur.com
SUMMARY:Iraq Home & Hotel Expo
DESCRIPTION:Fair InfoTour InformationExhibition DetailsFair Info     \n\nHistory: 19 April 2026\n\nCategory: \n\nCountry: \n\nFairground: Baghdad International\n\n  Tour Information      \n     \nFlight Info\n    \n        \n            \n                Departure Date\n                Return Date\n                Airline\n                Departure Airport\n                Arrival Airport\n                Departure time İstanbul\n                Arrivel Time to Destination\n                Departure time Destination\n                Landing time İstanbul\n            \n        \n        \n            \n                \n                \n                \n                \n                \n                \n                \n                \n                \n            \n        \n    \n \n    Accomodation\n    \n        \n            \n                Hotel Name\n                Distance to Fair \n                Distance to Transportation\n                Location\n            \n        \n        \n            \n                \n                 Meter\n                 Meter\n                Show on Map\n            \n        \n    \n \n\n \n     Exhibition Details    \n\n \n\nName Surname *Telephone number *EmailName of the Fair You Are Interested InNotesThe message has been sent.×There was a problem sending the message.×Send
URL:https://fieratur.com/en/fuar-turu/iraq-home-hotel-expo/
LOCATION:Baghdad International\, 8976+GX2\, Unnamed Road\, Baghdad\, Iraq\, Baghdad\, Iraq
CATEGORIES:Hotel / Accommodation
ATTACH;FMTTYPE=image/jpeg:https://fieratur.com/wp-content/uploads/2025/02/IRAQ-HOME-HOTEL-EXPO.jpg
END:VEVENT
END:VCALENDAR