BEGIN:VCALENDAR
VERSION:2.0
PRODID:-//Fiera Tur - ECPv6.10.0//NONSGML v1.0//EN
CALSCALE:GREGORIAN
METHOD:PUBLISH
X-ORIGINAL-URL:https://fieratur.com/en/
X-WR-CALDESC:Events for Fiera Tur
REFRESH-INTERVAL;VALUE=DURATION:PT1H
X-Robots-Tag:noindex
X-PUBLISHED-TTL:PT1H
BEGIN:VTIMEZONE
TZID:Europe/Moscow
BEGIN:STANDARD
TZOFFSETFROM:+0300
TZOFFSETTO:+0300
TZNAME:MSK
DTSTART:20250101T000000
END:STANDARD
END:VTIMEZONE
BEGIN:VEVENT
DTSTART;VALUE=DATE:20250211
DTEND;VALUE=DATE:20250215
DTSTAMP:20260419T224030
CREATED:20250213T095637Z
LAST-MODIFIED:20250213T095701Z
UID:10000025-1739232000-1739577599@fieratur.com
SUMMARY:Budma
DESCRIPTION:Fair InfoTour InformationExhibition DetailsFair Info     \n\nHistory: 19 April 2026\n\nCategory: \n\nCountry: \n\nFairground: Poznań International Fair\n\n  Tour Information      \n     \nFlight Info\n    \n        \n            \n                Departure Date\n                Return Date\n                Airline\n                Departure Airport\n                Arrival Airport\n                Departure time İstanbul\n                Arrivel Time to Destination\n                Departure time Destination\n                Landing time İstanbul\n            \n        \n        \n            \n                \n                \n                \n                \n                \n                \n                \n                \n                \n            \n        \n    \n \n    Accomodation\n    \n        \n            \n                Hotel Name\n                Distance to Fair \n                Distance to Transportation\n                Location\n            \n        \n        \n            \n                \n                 Meter\n                 Meter\n                Show on Map\n            \n        \n    \n \n\n \n     Exhibition Details    \n\n \n\nName Surname *Telephone number *EmailName of the Fair You Are Interested InNotesThe message has been sent.×There was a problem sending the message.×Send
URL:https://fieratur.com/en/fuar-turu/budma/
LOCATION:Poznań International Fair\, Głogowska 14\, 60-734 Poznań\, Poland\, Poznan\, Poland
CATEGORIES:Construction
ATTACH;FMTTYPE=image/jpeg:https://fieratur.com/wp-content/uploads/2025/02/budma.jpg
END:VEVENT
END:VCALENDAR