BEGIN:VCALENDAR
VERSION:2.0
PRODID:-//Fiera Tur - ECPv6.10.0//NONSGML v1.0//EN
CALSCALE:GREGORIAN
METHOD:PUBLISH
X-ORIGINAL-URL:https://fieratur.com
X-WR-CALDESC:Fiera Tur için etkinlikler
REFRESH-INTERVAL;VALUE=DURATION:PT1H
X-Robots-Tag:noindex
X-PUBLISHED-TTL:PT1H
BEGIN:VTIMEZONE
TZID:Europe/Moscow
BEGIN:STANDARD
TZOFFSETFROM:+0300
TZOFFSETTO:+0300
TZNAME:MSK
DTSTART:20250101T000000
END:STANDARD
END:VTIMEZONE
BEGIN:VEVENT
DTSTART;VALUE=DATE:20250626
DTEND;VALUE=DATE:20250629
DTSTAMP:20260420T090249
CREATED:20250213T104651Z
LAST-MODIFIED:20250213T104651Z
UID:10000050-1750896000-1751155199@fieratur.com
SUMMARY:THE BIG 5 CONSTRUCT ETHIOPIA
DESCRIPTION:Fuar BilgisiTur BilgileriFuar DetaylarıFuar Bilgisi     \n\nTarih: 15 Aralık 2025 - 17 Aralık 2025\n\nKategori: Gıda\n\nÜlke: Suudi Arabistan\n\nFuar Alanı: Riyadh Front Exhibition & Conference Center\n\n  Tur Bilgileri      \n     \nUçuş Bilgileri\n    \n        \n            \n                Gidiş Tarihi\n                Dönüş Tarihi\n                Hava Yolu\n                Kalkış Hava Limanı\n                Varış Hava Limanı\n                İstanbul'dan Kalkış Saati\n                Varış Noktasına Varış Saati\n                Varış Noktasından Kalkış Saati\n                İstanbul'a Varış Saati\n            \n        \n        \n            \n                \n                \n                \n                \n                \n                \n                \n                \n                \n            \n        \n    \n \n    Konaklama\n    \n        \n            \n                Otel Adı\n                Fuara Ulaşım Mesafesi\n                Toplu Taşımaya Mesafe\n                Konum\n            \n        \n        \n            \n                \n                 Metre\n                 Metre\n                Haritada Göster\n            \n        \n    \n \n\n \n     Fuar Detayları    \n\n26 – 28 Haziran 2025 tarihlerinde gerçekleştirilecek olan Addsbuild Big 5 Yapı Etiyopya Fuarı\, inşaat sektöründeki kişiler için büyük bir fırsat sunmaktadır. Addis Ababa\, Etiyopyada düzenlenecek olan bu fuar\, 20den fazla ülkeden 150den fazla katılımcıyı bir araya getirmektedir. Bu etkinlik\, gelişmiş ekipmanlar\, sürdürülebilir malzemeler ve yenilikçi teknolojilerin sergilerini içermektedir.\n\nBig 5 Construct Ethiopia\, iş birliğinin gücünü sergileyerek bölgedeki inşaat sektörünü güçlendirmeye katkıda bulunmaktadır. Etiyopyanın 59 milyar dolarlık büyüyen inşaat pazarında yer almak isteyenler için yerel düzenlemeler hakkında bilgi edinmek ve yeni iş ortaklıkları kurmak adına ideal bir platformdur olmaktadır.\n\nFuar\, markanızı yerel müteahhitler\, mimarlar\, mühendisler ve devlet yetkilileri arasında tanıtma imkanı sağlamaktadır. En son ürünler\, teknolojiler ve yeniliklerle ilgilenen potansiyel müşterilerle bağlantı kurma imkanı bulunmaktadır.\n\nEtiyopyanın gıda ve içecek sektörüne tedarik sağlayan firmalar\, Addsbuild Big 5 Yapı Etiyopya’yı yeni ürünlerini tanıtmak\, satış yapmak ve uzun süreli ilişkiler kurmak için kullanmaktadır. Fuar\, sektörün tüm alanlarını kapsayarak geniş bir ürün ve hizmet yelpazesi sunmaktadır.\n\n \n\nAd soyad *Telefon numarası *Emailİlgilendiğiniz Fuarın AdıNotlarMesaj gönderildi.×Mesajı gönderirken bir problem meydana geldi.×Gönder\n\n\n\n\n\n 
URL:https://fieratur.com/fuar-turu/the-big-5-construct-ethiopia/
LOCATION:Addis Ababa\, XQRQ+4R7\, Addis Ababa\, Ethiopia\, addis ababa\, Ethiopia
CATEGORIES:Gıda
ATTACH;FMTTYPE=image/jpeg:https://fieratur.com/wp-content/uploads/2025/02/big-5-etiyopya.jpg
END:VEVENT
END:VCALENDAR