BEGIN:VCALENDAR
VERSION:2.0
PRODID:-//Fiera Tur - ECPv6.10.0//NONSGML v1.0//EN
CALSCALE:GREGORIAN
METHOD:PUBLISH
X-WR-CALNAME:Fiera Tur
X-ORIGINAL-URL:https://fieratur.com
X-WR-CALDESC:Fiera Tur için etkinlikler
REFRESH-INTERVAL;VALUE=DURATION:PT1H
X-Robots-Tag:noindex
X-PUBLISHED-TTL:PT1H
BEGIN:VTIMEZONE
TZID:Europe/Moscow
BEGIN:STANDARD
TZOFFSETFROM:+0300
TZOFFSETTO:+0300
TZNAME:MSK
DTSTART:20250101T000000
END:STANDARD
END:VTIMEZONE
BEGIN:VEVENT
DTSTART;VALUE=DATE:20250928
DTEND;VALUE=DATE:20251001
DTSTAMP:20260419T192707
CREATED:20250213T142914Z
LAST-MODIFIED:20250213T142914Z
UID:10000064-1759017600-1759276799@fieratur.com
SUMMARY:JEDDAH CONSTRUCT
DESCRIPTION:Fuar BilgisiTur BilgileriFuar DetaylarıFuar Bilgisi     \n\nTarih: 15 Aralık 2025 - 17 Aralık 2025\n\nKategori: Gıda\n\nÜlke: Suudi Arabistan\n\nFuar Alanı: Riyadh Front Exhibition & Conference Center\n\n  Tur Bilgileri      \n     \nUçuş Bilgileri\n    \n        \n            \n                Gidiş Tarihi\n                Dönüş Tarihi\n                Hava Yolu\n                Kalkış Hava Limanı\n                Varış Hava Limanı\n                İstanbul'dan Kalkış Saati\n                Varış Noktasına Varış Saati\n                Varış Noktasından Kalkış Saati\n                İstanbul'a Varış Saati\n            \n        \n        \n            \n                \n                \n                \n                \n                \n                \n                \n                \n                \n            \n        \n    \n \n    Konaklama\n    \n        \n            \n                Otel Adı\n                Fuara Ulaşım Mesafesi\n                Toplu Taşımaya Mesafe\n                Konum\n            \n        \n        \n            \n                \n                 Metre\n                 Metre\n                Haritada Göster\n            \n        \n    \n \n\n \n     Fuar Detayları    \n\n28-30 Eylül 2025 tarihleri arasında gerçekleştirilecek olan Jeddah Construction Fuarı\, Suudi Arabistanın Batı Bölgesinde devam eden inşaat devriminin en önemli parçası olarak öne çıkmaktadır. Toplamda 613 milyar doları aşan proje değeri ile bu bölge\, büyük bir inşaat dönüşümüne sahne olmaktadır.\n\nJeddah Construct\, bölgedeki en büyük inşaat etkinliği olarak\, inşaat sektöründeki profesyonelleri bir araya getirerek\, ilerlemeyi hızlandırmakta ve bol miktarda iş fırsatını ortaya çıkarmaktadır. Fuar\, sınırsız iş fırsatları sunan bu pazara erişim imkanı sağlamaktadır.\n\nFuar\, Markanızı yerel müteahhitler\, distribütörler\, mimarlar\, mühendisler ve hükümet yetkilileri arasında sergileme fırsatı sunmaktadır. Bu fuar\, işinizi büyütmek\, doğru kitleye ulaşmak ve bu gelişen pazarda kalıcı bir izlenim bırakmak için ideal bir platform sunmaktadır.\n\nSuudi Arabistanın 2030 Vizyonu doğrultusunda\, Batı Bölgesinde 100den fazla proje\, konut\, perakende\, altyapı ve ulaşım gibi çeşitli sektörlerde hayata geçirilmektedir. Bu projeler\, bölgenin iddialı gelişim planının bir parçası olarak 613 milyar doları aşan bir değere sahiptir.\n\n \n\nAd soyad *Telefon numarası *Emailİlgilendiğiniz Fuarın AdıNotlarMesaj gönderildi.×Mesajı gönderirken bir problem meydana geldi.×Gönder\n\n\n\n\n\n 
URL:https://fieratur.com/fuar-turu/jeddah-construct/
LOCATION:Jeddah Superdome\, Al-Madinah Al-Munawarah Rd\, King Abdulaziz International Airport\, Jeddah 23735\, Saudi Arabia\, Jeddah\, Saudi Arabia
CATEGORIES:Yapı ve İnşaat
ATTACH;FMTTYPE=image/jpeg:https://fieratur.com/wp-content/uploads/2025/02/jeddah.jpg
END:VEVENT
BEGIN:VEVENT
DTSTART;VALUE=DATE:20250929
DTEND;VALUE=DATE:20251002
DTSTAMP:20260419T192708
CREATED:20250213T143522Z
LAST-MODIFIED:20250213T143701Z
UID:10000066-1759104000-1759363199@fieratur.com
SUMMARY:PACK EXPO LAS VEGAS
DESCRIPTION:Fuar BilgisiTur BilgileriFuar DetaylarıFuar Bilgisi      Tarih: 15 Aralık 2025 - 17 Aralık 2025 Kategori: Gıda Ülke: Suudi Arabistan Fuar Alanı: Riyadh Front Exhibition & Conference Center   Tur Bilgileri      \n     \nUçuş Bilgileri\n    \n        \n            \n                Gidiş Tarihi\n                Dönüş Tarihi\n                Hava Yolu\n                Kalkış Hava Limanı\n                Varış Hava Limanı\n                İstanbul'dan Kalkış Saati\n                Varış Noktasına Varış Saati\n                Varış Noktasından Kalkış Saati\n                İstanbul'a Varış Saati\n            \n        \n        \n            \n                \n                \n                \n                \n                \n                \n                \n                \n                \n            \n        \n    \n \n    Konaklama\n    \n        \n            \n                Otel Adı\n                Fuara Ulaşım Mesafesi\n                Toplu Taşımaya Mesafe\n                Konum\n            \n        \n        \n            \n                \n                 Metre\n                 Metre\n                Haritada Göster\n            \n        \n    \n \n\n \n     Fuar Detayları\n\n   29 Eylül – 1 Ekim 2025 tarihlerinde düzenlenecek olan Pack Expo Las Vegas\, paketleme ve işleme sektörlerinde dünyanın en büyük fuarlarından biri olarak öne çıkmaktadır. Fuar\, Tüketici Paketli Ürünler\, farklı endüstri ve bölgelerden gelen son kullanıcılara ulaşarak\, iş dünyasıyla bağlantı kurma fırsatı sunmaktadır. Pack Expo Las Vegas\, 30.000’den fazla paketleme ve işleme sektörü insanını bir araya getirerek\, işletmelerin alıcılarla buluşmasını ve projelerini hızlandırmak için güçlü iş bağlantıları kurmalarını sağlamaktadır. Katılımcılar\, müşteri ilişkilerini güçlendirme\, yeni potansiyel müşterilere ulaşma ve markalarının görünürlüğünü artırma fırsatı yakalamaktadır. Ayrıca\, pazardaki rekabeti değerlendirme ve yenilikçi geri bildirimler alma şansı sunmaktadır. Fuar\, otomasyon\, kontrol bileşenleri\, paketleme makineleri\, gıda yaşam bilimleri işleme makineleri gibi birçok sektörde 2.300’den fazla katılımcı firma ile geniş bir yelpazede çözümler sergilemektedir. Pack Expo Las Vegas\, sektör liderleriyle bağlantı kurarak işinizi büyütmek\, yenilikleri keşfetmek ve rekabette bir adım öne geçmek için bir platform sunmaktadır.   Ad soyad *Telefon numarası *Emailİlgilendiğiniz Fuarın AdıNotlarMesaj gönderildi.×Mesajı gönderirken bir problem meydana geldi.×Gönder
URL:https://fieratur.com/fuar-turu/pack-expo-las-vegas/
LOCATION:Las Vegas Convention Center\, 3150 Paradise Rd Las Vegas\, NV 89109\, Las Vegas\, United States
CATEGORIES:Paketleme
ATTACH;FMTTYPE=image/jpeg:https://fieratur.com/wp-content/uploads/2025/02/PACK-EXPO-LAS-VEGAS.jpg
END:VEVENT
BEGIN:VEVENT
DTSTART;VALUE=DATE:20250930
DTEND;VALUE=DATE:20251002
DTSTAMP:20260419T192708
CREATED:20250213T144018Z
LAST-MODIFIED:20250226T152426Z
UID:10000068-1759190400-1759363199@fieratur.com
SUMMARY:UK CONSTRUCTION WEEK
DESCRIPTION:Fuar BilgisiTur BilgileriFuar DetaylarıFuar Bilgisi      Tarih: 15 Aralık 2025 - 17 Aralık 2025 Kategori: Gıda Ülke: Suudi Arabistan Fuar Alanı: Riyadh Front Exhibition & Conference Center   Tur Bilgileri      \n     \nUçuş Bilgileri\n    \n        \n            \n                Gidiş Tarihi\n                Dönüş Tarihi\n                Hava Yolu\n                Kalkış Hava Limanı\n                Varış Hava Limanı\n                İstanbul'dan Kalkış Saati\n                Varış Noktasına Varış Saati\n                Varış Noktasından Kalkış Saati\n                İstanbul'a Varış Saati\n            \n        \n        \n            \n                \n                \n                \n                \n                \n                \n                \n                \n                \n            \n        \n    \n \n    Konaklama\n    \n        \n            \n                Otel Adı\n                Fuara Ulaşım Mesafesi\n                Toplu Taşımaya Mesafe\n                Konum\n            \n        \n        \n            \n                \n                 Metre\n                 Metre\n                Haritada Göster\n            \n        \n    \n \n\n \n     Fuar Detayları\n\n   30 Eylül – 1 Ekim 2025 tarihleri arasında gerçekleştirilecek olan UK Yapı Haftası\, 2015 yılında Birminghamdaki NECde başlamış ve o zamandan bu yana Birleşik Krallıkın en büyük yapı etkinliği haline gelmiştir. Fuar\, binlerce uluslararası katılımcı\, yenilikçi ürünler\, malzemeler ve hizmetler sergileyerek 100\,000den fazla ziyaretçiye ulaşma fırsatı sağlamıştır. UK Yapı Haftası\, sektördeki değişimlerin ana yapısı olarak öne çıkmaktadır. Birçok seminerde\, alanında en iyi konuşmacılar sektördeki önemli konuları tartışmak ve gerçek değişim yaratmak amacıyla bir araya gelmektedir. UK Yapı Haftası Birmingham\, Birleşik Krallıkın merkezinde yer alan yapı üreticileri ve tedarikçileri için vazgeçilmez bir etkinliktir. Çeşitli katılımcı kitlesi ve sektördeki yatırımcıların yoğun katılımıyla\, ürünleri sergileme\, bağlantılar kurma ve stratejik fırsatlardan yararlanma imkanı bulmaktadır. Bu stratejik yatırım\, markanızın tanınırlığını artırmakta\, iş fırsatlarını çoğaltmakta ve Midlands bölgesi ve ötesinde yapı sektöründeki pazarda önemli bir konum elde etmenizi sağlamaktadır. UK Yapı Haftası Birmingham\, Build Live\, Infrastructure Live & Digital Construction bölümlerini içermekte olup\, Roofing Expo\, Onsite On Hire ve Grand Designs Live ile birlikte düzenlenmektedir.   Ad soyad *Telefon numarası *Emailİlgilendiğiniz Fuarın AdıNotlarMesaj gönderildi.×Mesajı gönderirken bir problem meydana geldi.×Gönder
URL:https://fieratur.com/fuar-turu/uk-construction-week/
LOCATION:National Exhibition Centre\, Pendigo Way\, Marston Green\, Birmingham B40 1NT\, United Kingdom\, Birmingham\, United Kingdom
CATEGORIES:Yapı ve İnşaat
ATTACH;FMTTYPE=image/jpeg:https://fieratur.com/wp-content/uploads/2025/02/UK-CONSTRUCTION-WEEK.jpg
END:VEVENT
END:VCALENDAR