BEGIN:VCALENDAR
VERSION:2.0
PRODID:-//Fiera Tur - ECPv6.10.0//NONSGML v1.0//EN
CALSCALE:GREGORIAN
METHOD:PUBLISH
X-ORIGINAL-URL:https://fieratur.com
X-WR-CALDESC:Fiera Tur için etkinlikler
REFRESH-INTERVAL;VALUE=DURATION:PT1H
X-Robots-Tag:noindex
X-PUBLISHED-TTL:PT1H
BEGIN:VTIMEZONE
TZID:Europe/Moscow
BEGIN:STANDARD
TZOFFSETFROM:+0300
TZOFFSETTO:+0300
TZNAME:MSK
DTSTART:20250101T000000
END:STANDARD
END:VTIMEZONE
BEGIN:VEVENT
DTSTART;VALUE=DATE:20251012
DTEND;VALUE=DATE:20251015
DTSTAMP:20260419T212012
CREATED:20250723T115322Z
LAST-MODIFIED:20250723T115419Z
UID:10000088-1760227200-1760486399@fieratur.com
SUMMARY:BIG 5 CONSTRUCT - INDEX DESIGN QATAR
DESCRIPTION:Fuar BilgisiTur BilgileriFuar DetaylarıFuar Bilgisi      Tarih: 15 Aralık 2025 - 17 Aralık 2025 Kategori: Gıda Ülke: Suudi Arabistan Fuar Alanı: Riyadh Front Exhibition & Conference Center   Tur Bilgileri      \n     \nUçuş Bilgileri\n    \n        \n            \n                Gidiş Tarihi\n                Dönüş Tarihi\n                Hava Yolu\n                Kalkış Hava Limanı\n                Varış Hava Limanı\n                İstanbul'dan Kalkış Saati\n                Varış Noktasına Varış Saati\n                Varış Noktasından Kalkış Saati\n                İstanbul'a Varış Saati\n            \n        \n        \n            \n                \n                \n                \n                \n                \n                \n                \n                \n                \n            \n        \n    \n \n    Konaklama\n    \n        \n            \n                Otel Adı\n                Fuara Ulaşım Mesafesi\n                Toplu Taşımaya Mesafe\n                Konum\n            \n        \n        \n            \n                \n                 Metre\n                 Metre\n                Haritada Göster\n            \n        \n    \n \n\n \n     Fuar Detayları\n\n   12-14 Ekim 2025 tarihlerinde Doha Exhibition & Convention Center’da gerçekleşecek olan The Big 5 Construct Qatar\, yapı ve inşaat sektöründe faaliyet gösteren firmalar için bölgedeki en önemli iş platformlarından biridir. Katar’ın büyüyen inşaat projelerine erişim sağlamak isteyen firmalar için büyük fırsatlar sunan fuar\, ürün tanıtımı\, iş bağlantıları ve sektörle ilgili güncel bilgiler için ideal bir ortam sunmaktadır.   Ad soyad *Telefon numarası *Emailİlgilendiğiniz Fuarın AdıNotlarMesaj gönderildi.×Mesajı gönderirken bir problem meydana geldi.×Gönder
URL:https://fieratur.com/fuar-turu/big-5-index/
LOCATION:DOHA EXHIBITION & CONVENTION CENTER\, West Bay\, Doha\, Doha\, Qatar\, Doha\, Qatar
CATEGORIES:Yapı ve İnşaat
ATTACH;FMTTYPE=image/png:https://fieratur.com/wp-content/uploads/2025/07/big-5-katar.png
END:VEVENT
END:VCALENDAR