BEGIN:VCALENDAR
VERSION:2.0
PRODID:-//Fiera Tur - ECPv6.10.0//NONSGML v1.0//EN
CALSCALE:GREGORIAN
METHOD:PUBLISH
X-ORIGINAL-URL:https://fieratur.com
X-WR-CALDESC:Fiera Tur için etkinlikler
REFRESH-INTERVAL;VALUE=DURATION:PT1H
X-Robots-Tag:noindex
X-PUBLISHED-TTL:PT1H
BEGIN:VTIMEZONE
TZID:Europe/Moscow
BEGIN:STANDARD
TZOFFSETFROM:+0300
TZOFFSETTO:+0300
TZNAME:MSK
DTSTART:20250101T000000
END:STANDARD
END:VTIMEZONE
BEGIN:VEVENT
DTSTART;VALUE=DATE:20251124
DTEND;VALUE=DATE:20251128
DTSTAMP:20260419T225927
CREATED:20250213T150245Z
LAST-MODIFIED:20250213T150651Z
UID:10000078-1763942400-1764287999@fieratur.com
SUMMARY:MIDDLE EAST STONE
DESCRIPTION:Fuar BilgisiTur BilgileriFuar DetaylarıFuar Bilgisi     \nTarih: 15 Aralık 2025 - 17 Aralık 2025\nKategori: Gıda\nÜlke: Suudi Arabistan\nFuar Alanı: Riyadh Front Exhibition & Conference Center \n  Tur Bilgileri      \n     \nUçuş Bilgileri\n    \n        \n            \n                Gidiş Tarihi\n                Dönüş Tarihi\n                Hava Yolu\n                Kalkış Hava Limanı\n                Varış Hava Limanı\n                İstanbul'dan Kalkış Saati\n                Varış Noktasına Varış Saati\n                Varış Noktasından Kalkış Saati\n                İstanbul'a Varış Saati\n            \n        \n        \n            \n                \n                \n                \n                \n                \n                \n                \n                \n                \n            \n        \n    \n \n    Konaklama\n    \n        \n            \n                Otel Adı\n                Fuara Ulaşım Mesafesi\n                Toplu Taşımaya Mesafe\n                Konum\n            \n        \n        \n            \n                \n                 Metre\n                 Metre\n                Haritada Göster\n            \n        \n    \n \n\n \n     Fuar Detayları    \n \nAd soyad *Telefon numarası *Emailİlgilendiğiniz Fuarın AdıNotlarMesaj gönderildi.×Mesajı gönderirken bir problem meydana geldi.×Gönder
URL:https://fieratur.com/fuar-turu/middle-east-stone/
LOCATION:Dubai World Trade Centre\, Sheikh Zayed Rd - Trade Centre - Trade Centre 2 - Dubai - United Arab Emirates\, Dubai\, United Arab Emirates
CATEGORIES:Yapı ve İnşaat
ATTACH;FMTTYPE=image/jpeg:https://fieratur.com/wp-content/uploads/2025/02/Middle-East-Stone.jpg
END:VEVENT
BEGIN:VEVENT
DTSTART;VALUE=DATE:20251124
DTEND;VALUE=DATE:20251128
DTSTAMP:20260419T225927
CREATED:20250213T150814Z
LAST-MODIFIED:20250213T150814Z
UID:10000080-1763942400-1764287999@fieratur.com
SUMMARY:THE BIG 5 HEAVY & MEC
DESCRIPTION:Fuar BilgisiTur BilgileriFuar DetaylarıFuar Bilgisi     \n\nTarih: 15 Aralık 2025 - 17 Aralık 2025\n\nKategori: Gıda\n\nÜlke: Suudi Arabistan\n\nFuar Alanı: Riyadh Front Exhibition & Conference Center\n\n  Tur Bilgileri      \n     \nUçuş Bilgileri\n    \n        \n            \n                Gidiş Tarihi\n                Dönüş Tarihi\n                Hava Yolu\n                Kalkış Hava Limanı\n                Varış Hava Limanı\n                İstanbul'dan Kalkış Saati\n                Varış Noktasına Varış Saati\n                Varış Noktasından Kalkış Saati\n                İstanbul'a Varış Saati\n            \n        \n        \n            \n                \n                \n                \n                \n                \n                \n                \n                \n                \n            \n        \n    \n \n    Konaklama\n    \n        \n            \n                Otel Adı\n                Fuara Ulaşım Mesafesi\n                Toplu Taşımaya Mesafe\n                Konum\n            \n        \n        \n            \n                \n                 Metre\n                 Metre\n                Haritada Göster\n            \n        \n    \n \n\n \n     Fuar Detayları    \n\n24-27 Kasım 2025 tarihlerinde gerçekleştirilecek olan The Big 5 Heavy & MEC\, ağır inşaat sektöründe iş fırsatlarını genişletmek isteyen firmalar için önemli bir platform sunmaktadır. Etkinlik\, canlı ürün tanıtımları\, bilgi alışverişi ve networking fırsatları ile sektördeki şirketleri bir araya getirmekte ve Big 5 Global etkinliğiyle birlikte gerçekleşmektedir.\n\nThe Big 5 Heavy & MEC\, işletmelere büyüme potansiyelini artırma ve iş bağlantıları kurma imkanı sunan sınırsız fırsatlar sağlamaktadır. MEASA bölgesinin 9 trilyon dolarlık inşaat pazarına açılan bir kapı olan bu fuar\, inşaatın her aşamasında iş olanaklarını değerlendirmek isteyen firmalar için vazgeçilmez bir iş platformu sunmaktadır.\n\n \n\nAd soyad *Telefon numarası *Emailİlgilendiğiniz Fuarın AdıNotlarMesaj gönderildi.×Mesajı gönderirken bir problem meydana geldi.×Gönder\n\n\n\n\n\n 
URL:https://fieratur.com/fuar-turu/the-big-5-heavy-mec/
LOCATION:Dubai World Trade Centre\, Sheikh Zayed Rd - Trade Centre - Trade Centre 2 - Dubai - United Arab Emirates\, Dubai\, United Arab Emirates
CATEGORIES:Yapı ve İnşaat
ATTACH;FMTTYPE=image/jpeg:https://fieratur.com/wp-content/uploads/2025/02/heavy-mec.jpg
END:VEVENT
END:VCALENDAR