BEGIN:VCALENDAR
VERSION:2.0
PRODID:-//Fiera Tur - ECPv6.10.0//NONSGML v1.0//EN
CALSCALE:GREGORIAN
METHOD:PUBLISH
X-WR-CALNAME:Fiera Tur
X-ORIGINAL-URL:https://fieratur.com
X-WR-CALDESC:Fiera Tur için etkinlikler
REFRESH-INTERVAL;VALUE=DURATION:PT1H
X-Robots-Tag:noindex
X-PUBLISHED-TTL:PT1H
BEGIN:VTIMEZONE
TZID:Europe/Moscow
BEGIN:STANDARD
TZOFFSETFROM:+0300
TZOFFSETTO:+0300
TZNAME:MSK
DTSTART:20250101T000000
END:STANDARD
END:VTIMEZONE
BEGIN:VEVENT
DTSTART;VALUE=DATE:20250916
DTEND;VALUE=DATE:20250919
DTSTAMP:20260419T172638
CREATED:20250723T114724Z
LAST-MODIFIED:20250723T114724Z
UID:10000086-1757980800-1758239999@fieratur.com
SUMMARY:ORGATECH WORKSPACE SAUDI ARABIA
DESCRIPTION:Fuar BilgisiTur BilgileriFuar DetaylarıFuar Bilgisi      Tarih: 19 Nisan 2026 Kategori:  Ülke:  Fuar Alanı: Riyadh International Convention and Exhibition Center   Tur Bilgileri      \n     \nUçuş Bilgileri\n    \n        \n            \n                Gidiş Tarihi\n                Dönüş Tarihi\n                Hava Yolu\n                Kalkış Hava Limanı\n                Varış Hava Limanı\n                İstanbul'dan Kalkış Saati\n                Varış Noktasına Varış Saati\n                Varış Noktasından Kalkış Saati\n                İstanbul'a Varış Saati\n            \n        \n        \n            \n                \n                \n                \n                \n                \n                \n                \n                \n                \n            \n        \n    \n \n    Konaklama\n    \n        \n            \n                Otel Adı\n                Fuara Ulaşım Mesafesi\n                Toplu Taşımaya Mesafe\n                Konum\n            \n        \n        \n            \n                \n                 Metre\n                 Metre\n                Haritada Göster\n            \n        \n    \n \n\n \n     Fuar Detayları\n\n\n\n  16-18 Eylül 2025 tarihlerinde Riyad’da düzenlenecek olan Orgatech Workspace Saudi Arabia\, ofis mobilyaları ve iç mekân çözümleri alanında faaliyet gösteren firmalar için önemli bir ticaret platformudur. Riyadh Front Exhibition & Conference Center’da gerçekleşecek etkinlik\, modern çalışma alanlarına yönelik yenilikçi ürünlerin sergilendiği\, iş bağlantılarının geliştirildiği ve sektörel trendlerin takip edildiği bir buluşma noktası sunmaktadır.  Ad soyad *Telefon numarası *Emailİlgilendiğiniz Fuarın AdıNotlarMesaj gönderildi.×Mesajı gönderirken bir problem meydana geldi.×Gönder \n\n\n\n 
URL:https://fieratur.com/fuar-turu/orgatech-workspace-saudi-arabia/
LOCATION:Riyadh International Convention and Exhibition Center\, Riyadh\, Saudi Arabia
CATEGORIES:Dekorasyon
ATTACH;FMTTYPE=image/jpeg:https://fieratur.com/wp-content/uploads/2025/07/orgatech.jpg
END:VEVENT
BEGIN:VEVENT
DTSTART;VALUE=DATE:20250915
DTEND;VALUE=DATE:20250918
DTSTAMP:20260419T172639
CREATED:20250213T110538Z
LAST-MODIFIED:20250213T110538Z
UID:10000058-1757894400-1758153599@fieratur.com
SUMMARY:SAUDI INFRASTRUCTURE SHOW
DESCRIPTION:Fuar BilgisiTur BilgileriFuar DetaylarıFuar Bilgisi     \n\nTarih: 19 Nisan 2026\n\nKategori: \n\nÜlke: \n\nFuar Alanı: Riyadh International Convention and Exhibition Center\n\n  Tur Bilgileri      \n     \nUçuş Bilgileri\n    \n        \n            \n                Gidiş Tarihi\n                Dönüş Tarihi\n                Hava Yolu\n                Kalkış Hava Limanı\n                Varış Hava Limanı\n                İstanbul'dan Kalkış Saati\n                Varış Noktasına Varış Saati\n                Varış Noktasından Kalkış Saati\n                İstanbul'a Varış Saati\n            \n        \n        \n            \n                \n                \n                \n                \n                \n                \n                \n                \n                \n            \n        \n    \n \n    Konaklama\n    \n        \n            \n                Otel Adı\n                Fuara Ulaşım Mesafesi\n                Toplu Taşımaya Mesafe\n                Konum\n            \n        \n        \n            \n                \n                 Metre\n                 Metre\n                Haritada Göster\n            \n        \n    \n \n\n \n     Fuar Detayları    \n\nRiyad – Suudi Altyapı Fuarı\, Suudi Arabistanın küresel bir altyapı merkezi olma yolundaki dönüşümünü destekleyen önemli bir etkinliktir. 1 trilyon dolarlık altyapı projesi planı kapsamında NEOM\, Kızıldeniz\, Qiddiya\, ROSHN ve Diriyah Company gibi projeler bulunmaktadır.\n\nSuudi Arabistanın Vizyon 2030 hedeflerine ulaşmak için altyapı ve altyapıya dayalı ürünlere olan talep artmaktadır. Bu etkinlik\, altyapı sektöründe faaliyet gösteren endüstri uzmanları için eşsiz bir ağ kurma fırsatı sunmaktadır.\n\nÜç gün boyunca\, nitelikli ziyaretçileri tek bir çatı altında toplayarak distribütörlerle tanışmanızı sağlamaktadır. Suudi Altyapı Fuarı\, iş hedeflerinize ulaşmanıza ve satış hattınızı genişletmenize yardımcı olmaktadır. Ayrıca\, Suudi Arabistan pazarını daha iyi anlamanızı ve yerel düzenlemelerde gezinmenizi sağlamak için uzman görüşleri sunmaktadır.\n\n \n\nAd soyad *Telefon numarası *Emailİlgilendiğiniz Fuarın AdıNotlarMesaj gönderildi.×Mesajı gönderirken bir problem meydana geldi.×Gönder\n\n\n\n\n\n 
URL:https://fieratur.com/fuar-turu/saudi-infrastructure-show/
LOCATION:Riyadh International Convention and Exhibition Center\, Riyadh\, Saudi Arabia
CATEGORIES:Altyapı
ATTACH;FMTTYPE=image/jpeg:https://fieratur.com/wp-content/uploads/2025/02/saudi-infrasturcture.jpg
END:VEVENT
BEGIN:VEVENT
DTSTART;VALUE=DATE:20250909
DTEND;VALUE=DATE:20250912
DTSTAMP:20260419T172639
CREATED:20250723T114353Z
LAST-MODIFIED:20250723T114353Z
UID:10000085-1757376000-1757635199@fieratur.com
SUMMARY:INDEX SAUDI ARABIA
DESCRIPTION:Fuar BilgisiTur BilgileriFuar DetaylarıFuar Bilgisi      Tarih: 19 Nisan 2026 Kategori:  Ülke:  Fuar Alanı: Riyadh International Convention and Exhibition Center   Tur Bilgileri      \n     \nUçuş Bilgileri\n    \n        \n            \n                Gidiş Tarihi\n                Dönüş Tarihi\n                Hava Yolu\n                Kalkış Hava Limanı\n                Varış Hava Limanı\n                İstanbul'dan Kalkış Saati\n                Varış Noktasına Varış Saati\n                Varış Noktasından Kalkış Saati\n                İstanbul'a Varış Saati\n            \n        \n        \n            \n                \n                \n                \n                \n                \n                \n                \n                \n                \n            \n        \n    \n \n    Konaklama\n    \n        \n            \n                Otel Adı\n                Fuara Ulaşım Mesafesi\n                Toplu Taşımaya Mesafe\n                Konum\n            \n        \n        \n            \n                \n                 Metre\n                 Metre\n                Haritada Göster\n            \n        \n    \n \n\n \n     Fuar Detayları\n\n\n\n  \n9-11 Eylül 2025 tarihlerinde Riyad’da gerçekleşecek olan Index Saudi Arabia\, iç mimari\, mobilya\, dekorasyon ve aydınlatma sektörlerinde faaliyet gösteren firmalar için önemli bir iş platformudur. Riyadh Front Exhibition & Conference Center’da düzenlenecek etkinlik\, Suudi Arabistan’ın hızla büyüyen tasarım ve inşaat pazarına açılmak isteyen firmalar için güçlü bir fırsat sunmaktadır. \nYenilikçi ürünlerin sergilendiği fuar\, sektör profesyonelleriyle tanışmak\, yeni iş bağlantıları kurmak ve bölgesel projelere dahil olmak isteyen katılımcılar için ideal bir ortam sağlamaktadır. \n  Ad soyad *Telefon numarası *Emailİlgilendiğiniz Fuarın AdıNotlarMesaj gönderildi.×Mesajı gönderirken bir problem meydana geldi.×Gönder \n\n\n\n 
URL:https://fieratur.com/fuar-turu/index-saudi-arabia/
LOCATION:Riyadh International Convention and Exhibition Center\, Riyadh\, Saudi Arabia
CATEGORIES:Dekorasyon
ATTACH;FMTTYPE=image/jpeg:https://fieratur.com/wp-content/uploads/2025/07/index-arabia.jpg
END:VEVENT
BEGIN:VEVENT
DTSTART;VALUE=DATE:20250902
DTEND;VALUE=DATE:20250905
DTSTAMP:20260419T172639
CREATED:20250213T110051Z
LAST-MODIFIED:20250814T074138Z
UID:10000056-1756771200-1757030399@fieratur.com
SUMMARY:GLOBAL WATER EXPO
DESCRIPTION:Fuar BilgisiTur BilgileriFuar DetaylarıFuar Bilgisi      Tarih: 19 Nisan 2026 Kategori:  Ülke:  Fuar Alanı: Riyadh International Convention and Exhibition Center   Tur Bilgileri      \n     \nUçuş Bilgileri\n    \n        \n            \n                Gidiş Tarihi\n                Dönüş Tarihi\n                Hava Yolu\n                Kalkış Hava Limanı\n                Varış Hava Limanı\n                İstanbul'dan Kalkış Saati\n                Varış Noktasına Varış Saati\n                Varış Noktasından Kalkış Saati\n                İstanbul'a Varış Saati\n            \n        \n        \n            \n                \n                \n                \n                \n                \n                \n                \n                \n                \n            \n        \n    \n \n    Konaklama\n    \n        \n            \n                Otel Adı\n                Fuara Ulaşım Mesafesi\n                Toplu Taşımaya Mesafe\n                Konum\n            \n        \n        \n            \n                \n                 Metre\n                 Metre\n                Haritada Göster\n            \n        \n    \n \n\n \n     Fuar Detayları\n \n  \n2-4 Eylül 2025 tarihlerinde gerçekleşecek olan Global Water Expo\, su endüstrisindeki en yeni teknolojileri\, sürdürülebilir çözümleri ve yenilikçi ürünleri keşfetmek için dünyanın dört bir yanından profesyonelleri bir araya getiren önemli bir platformdur. Fuar\, su arıtma\, atık su yönetimi\, akıllı su sistemleri ve tuzdan arındırma gibi sektörün kritik alanlarında en son gelişmeleri yakından inceleme imkânı sunmaktadır. \nKatılımcılar\, yerel ve uluslararası tedarikçilerle doğrudan temas kurarak stratejik iş ortaklıkları geliştirme\, yeni pazar fırsatlarını keşfetme ve sektörün geleceğini şekillendiren trendler hakkında bilgi edinme şansına sahip olacaklardır. Global Water Expo\, su yönetiminde verimliliği artırmak\, kaynak kullanımını optimize etmek ve çevresel etkileri en aza indirmek isteyen kurum ve işletmeler için vazgeçilmez bir buluşma noktasıdır. \n  Ad soyad *Telefon numarası *Emailİlgilendiğiniz Fuarın AdıNotlarMesaj gönderildi.×Mesajı gönderirken bir problem meydana geldi.×Gönder \n \n\n\n\n\n\n\n\n\n\n \n\n\n\n\n \nFuar BilgisiTur BilgileriFuar DetaylarıFuar Bilgisi      Tarih: 19 Nisan 2026 Kategori:  Ülke:  Fuar Alanı: Riyadh International Convention and Exhibition Center   Tur Bilgileri      \n     \nUçuş Bilgileri\n    \n        \n            \n                Gidiş Tarihi\n                Dönüş Tarihi\n                Hava Yolu\n                Kalkış Hava Limanı\n                Varış Hava Limanı\n                İstanbul'dan Kalkış Saati\n                Varış Noktasına Varış Saati\n                Varış Noktasından Kalkış Saati\n                İstanbul'a Varış Saati\n            \n        \n        \n            \n                \n                \n                \n                \n                \n                \n                \n                \n                \n            \n        \n    \n \n    Konaklama\n    \n        \n            \n                Otel Adı\n                Fuara Ulaşım Mesafesi\n                Toplu Taşımaya Mesafe\n                Konum\n            \n        \n        \n            \n                \n                 Metre\n                 Metre\n                Haritada Göster\n            \n        \n    \n \n\n \n     Fuar Detayları\n \n  \n2-4 Eylül 2025 tarihlerinde gerçekleşecek olan Global Water Expo\, su endüstrisindeki en yeni teknolojileri\, sürdürülebilir çözümleri ve yenilikçi ürünleri keşfetmek için dünyanın dört bir yanından profesyonelleri bir araya getiren önemli bir platformdur. Fuar\, su arıtma\, atık su yönetimi\, akıllı su sistemleri ve tuzdan arındırma gibi sektörün kritik alanlarında en son gelişmeleri yakından inceleme imkânı sunmaktadır. \nKatılımcılar\, yerel ve uluslararası tedarikçilerle doğrudan temas kurarak stratejik iş ortaklıkları geliştirme\, yeni pazar fırsatlarını keşfetme ve sektörün geleceğini şekillendiren trendler hakkında bilgi edinme şansına sahip olacaklardır. Global Water Expo\, su yönetiminde verimliliği artırmak\, kaynak kullanımını optimize etmek ve çevresel etkileri en aza indirmek isteyen kurum ve işletmeler için vazgeçilmez bir buluşma noktasıdır. \n  Ad soyad *Telefon numarası *Emailİlgilendiğiniz Fuarın AdıNotlarMesaj gönderildi.×Mesajı gönderirken bir problem meydana geldi.×Gönder
URL:https://fieratur.com/fuar-turu/global-water-expo/
LOCATION:Riyadh International Convention and Exhibition Center\, Riyadh\, Saudi Arabia
CATEGORIES:Enerji
ATTACH;FMTTYPE=image/jpeg:https://fieratur.com/wp-content/uploads/2025/02/global-water-1.jpg
END:VEVENT
BEGIN:VEVENT
DTSTART;VALUE=DATE:20250901
DTEND;VALUE=DATE:20250904
DTSTAMP:20260419T172639
CREATED:20250213T105855Z
LAST-MODIFIED:20250213T105855Z
UID:10000054-1756684800-1756943999@fieratur.com
SUMMARY:SAUDI WOOD EXPO
DESCRIPTION:Fuar BilgisiTur BilgileriFuar DetaylarıFuar Bilgisi     \n\nTarih: 19 Nisan 2026\n\nKategori: \n\nÜlke: \n\nFuar Alanı: Riyadh International Convention and Exhibition Center\n\n  Tur Bilgileri      \n     \nUçuş Bilgileri\n    \n        \n            \n                Gidiş Tarihi\n                Dönüş Tarihi\n                Hava Yolu\n                Kalkış Hava Limanı\n                Varış Hava Limanı\n                İstanbul'dan Kalkış Saati\n                Varış Noktasına Varış Saati\n                Varış Noktasından Kalkış Saati\n                İstanbul'a Varış Saati\n            \n        \n        \n            \n                \n                \n                \n                \n                \n                \n                \n                \n                \n            \n        \n    \n \n    Konaklama\n    \n        \n            \n                Otel Adı\n                Fuara Ulaşım Mesafesi\n                Toplu Taşımaya Mesafe\n                Konum\n            \n        \n        \n            \n                \n                 Metre\n                 Metre\n                Haritada Göster\n            \n        \n    \n \n\n \n     Fuar Detayları    \n\nSuudi Ahşap Fuarı\, 1-3 Eylül 2025 tarihleri arasında Riyad Uluslararası Kongre ve Sergi Merkezinde düzenlenmektedir. Bu fuar\, ahşap endüstrisinin en büyük etkinliklerinden biri olarak en son teknolojileri\, sürdürülebilir ahşap ürünlerini ve ilham verici tasarımlerı keşfetmek için bir fırsat sunmaktadır.\n\nSuudi Arabistanın 1 trilyon dolarlık altyapı projesi kapsamında NEOM\, Kızıldeniz\, Qiddiya\, ROSHN ve Diriyah Company gibi projeler bulunmaktadır. Suudi Arabistanın Vizyon 2030 hedeflerine ulaşmak için altyapı ve altyapıya dayalı ürünlere olan talep artmaktadır. Bu fuar\, altyapı sektöründe faaliyet gösteren endüstri uzmanları için bir ağ kurma fırsatı sunmaktadır.\n\nFuar\, üç gün boyunca ziyaretçileri tek bir çatı altında toplayarak iş hedeflerinize ulaşmanıza ve satış hattınızı genişletmenize yardımcı olmaktadır. Ayrıca\, Suudi Arabistan pazarını daha iyi anlamanızı ve yerel düzenlemelerde gezinmenizi sağlamaktadır.\n\n \n\nAd soyad *Telefon numarası *Emailİlgilendiğiniz Fuarın AdıNotlarMesaj gönderildi.×Mesajı gönderirken bir problem meydana geldi.×Gönder\n\n\n\n\n\n 
URL:https://fieratur.com/fuar-turu/saudi-wood-expo/
LOCATION:Riyadh International Convention and Exhibition Center\, Riyadh\, Saudi Arabia
CATEGORIES:Ahşap
ATTACH;FMTTYPE=image/jpeg:https://fieratur.com/wp-content/uploads/2025/02/saudi-wood-expo.jpg
END:VEVENT
BEGIN:VEVENT
DTSTART;VALUE=DATE:20250527
DTEND;VALUE=DATE:20250530
DTSTAMP:20260419T172639
CREATED:20250213T101944Z
LAST-MODIFIED:20250221T105131Z
UID:10000038-1748304000-1748563199@fieratur.com
SUMMARY:SAUDI WAREHOUSE & LOGISTICS EXPO
DESCRIPTION:Fuar BilgisiTur BilgileriFuar DetaylarıFuar Bilgisi      Tarih: 19 Nisan 2026 Kategori:  Ülke:  Fuar Alanı: Riyadh International Convention and Exhibition Center   Tur Bilgileri      \n     \nUçuş Bilgileri\n    \n        \n            \n                Gidiş Tarihi\n                Dönüş Tarihi\n                Hava Yolu\n                Kalkış Hava Limanı\n                Varış Hava Limanı\n                İstanbul'dan Kalkış Saati\n                Varış Noktasına Varış Saati\n                Varış Noktasından Kalkış Saati\n                İstanbul'a Varış Saati\n            \n        \n        \n            \n                \n                \n                \n                \n                \n                \n                \n                \n                \n            \n        \n    \n \n    Konaklama\n    \n        \n            \n                Otel Adı\n                Fuara Ulaşım Mesafesi\n                Toplu Taşımaya Mesafe\n                Konum\n            \n        \n        \n            \n                \n                 Metre\n                 Metre\n                Haritada Göster\n            \n        \n    \n \n\n \n     Fuar Detayları\n\n       Ad soyad *Telefon numarası *Emailİlgilendiğiniz Fuarın AdıNotlarMesaj gönderildi.×Mesajı gönderirken bir problem meydana geldi.×Gönder
URL:https://fieratur.com/fuar-turu/saudi-warehouse-logistics-expo/
LOCATION:Riyadh International Convention and Exhibition Center\, Riyadh\, Saudi Arabia
CATEGORIES:Lojistik
ATTACH;FMTTYPE=image/jpeg:https://fieratur.com/wp-content/uploads/2025/02/saudi-lojistik.jpg
END:VEVENT
BEGIN:VEVENT
DTSTART;VALUE=DATE:20250408
DTEND;VALUE=DATE:20250411
DTSTAMP:20260419T172639
CREATED:20241118T085657Z
LAST-MODIFIED:20250117T150903Z
UID:10000014-1744070400-1744329599@fieratur.com
SUMMARY:Saudi Hotel & Hospitality Expo
DESCRIPTION:Fuar BilgisiTur BilgileriFuar DetaylarıFuar Bilgisi     \nTarih: 19 Nisan 2026\nKategori: \nÜlke: \nFuar Alanı: Riyadh International Convention and Exhibition Center \n  Tur Bilgileri      \n     \nUçuş Bilgileri\n    \n        \n            \n                Gidiş Tarihi\n                Dönüş Tarihi\n                Hava Yolu\n                Kalkış Hava Limanı\n                Varış Hava Limanı\n                İstanbul'dan Kalkış Saati\n                Varış Noktasına Varış Saati\n                Varış Noktasından Kalkış Saati\n                İstanbul'a Varış Saati\n            \n        \n        \n            \n                \n                \n                \n                \n                \n                \n                \n                \n                \n            \n        \n    \n \n    Konaklama\n    \n        \n            \n                Otel Adı\n                Fuara Ulaşım Mesafesi\n                Toplu Taşımaya Mesafe\n                Konum\n            \n        \n        \n            \n                \n                 Metre\n                 Metre\n                Haritada Göster\n            \n        \n    \n \n\n \n     Fuar Detayları    \n8-10 Nisan 2025 tarihlerinde gerçekleştirilecek olan Hotel & Hospitality Expo Saudi Arabia\, otel ve konaklama sektörünün en önemli firmalarını alıcılarla bir araya getirmektedir. Suudi Arabistan’ın 2030 Vizyonu doğrultusunda çeşitlendirilmiş bir ekonomiye geçiş sürecinde\, seyahat ve turizme olan odaklanma sayesinde konaklama sektörü büyük bir ivme kazanmıştır. Bu fuar\, işletmelere değerli iş bağlantıları kurma\, kazançlı anlaşmalar yapma ve sektörün öncüsü olma fırsatını sunmaktadır. Hotel & Hospitality Expo Saudi Arabia\, Suudi Arabistan’ın NEOM\, Kızıl Deniz Projesi\, Qiddiya\, AlUla ve ROSHN gibi mega projeleri için ürün ve çözümler arayan 23.000’den fazla alıcı ile buluşma fırsatı sunmaktadır. \n \n Ad soyad *Telefon numarası *Emailİlgilendiğiniz Fuarın AdıNotlarMesaj gönderildi.×Mesajı gönderirken bir problem meydana geldi.×Gönder
URL:https://fieratur.com/fuar-turu/saudi-hotel-hospitality-expo/
LOCATION:Riyadh International Convention and Exhibition Center\, Riyadh\, Saudi Arabia
CATEGORIES:Otel / Konaklama
ATTACH;FMTTYPE=image/jpeg:https://fieratur.com/wp-content/uploads/2024/11/hotel-hospitality-arabia.jpg
END:VEVENT
END:VCALENDAR